BEGIN:VCALENDAR
VERSION:2.0
PRODID:-//ChamberMaster//Event Calendar 2.0//EN
METHOD:PUBLISH
X-PUBLISHED-TTL:P3D
REFRESH-INTERVAL:P3D
CALSCALE:GREGORIAN
BEGIN:VEVENT
DTSTART:20241022T233000Z
DTEND:20241023T010000Z
X-MICROSOFT-CDO-ALLDAYEVENT:FALSE
SUMMARY:Tricker Trunk
DESCRIPTION:Come and enjoy spooky treats and good times with our community!
X-ALT-DESC;FMTTYPE=text/html:Come and enjoy spooky treats and good times with our community!
LOCATION:501 Gaden Ridge Drive Livingston\, Tx 77351
UID:e.1105.8815
SEQUENCE:3
DTSTAMP:20260424T203858Z
URL:https://livingstonpolk-gzcms.preview.gochambermaster.com/events/details/tricker-trunk-8815
END:VEVENT

END:VCALENDAR
