BEGIN:VCALENDAR
VERSION:2.0
PRODID:-//ChamberMaster//Event Calendar 2.0//EN
METHOD:PUBLISH
X-PUBLISHED-TTL:P3D
REFRESH-INTERVAL:P3D
CALSCALE:GREGORIAN
BEGIN:VEVENT
DTSTART:20250209T210000Z
DTEND:20250209T221500Z
X-MICROSOFT-CDO-ALLDAYEVENT:FALSE
SUMMARY:The Aluminum Show presented by Angelina Arts Alliance
DESCRIPTION:A unique and energetic experience for the entire family\, is a stimulating tour de force which combines movement\, dance\, visual theater and plenty of humor. After its 2003 debut in Jerusalem at the Israel Festival\, the show gained worldwide recognition and for years has mesmerized hundreds of thousands of people across the globe.
X-ALT-DESC;FMTTYPE=text/html:A unique and energetic experience for the entire family\, is a stimulating tour de force which combines movement\, dance\, visual theater and plenty of humor. After its 2003 debut in Jerusalem at the Israel Festival\, the show gained worldwide recognition and for years has mesmerized hundreds of thousands of people across the globe.
LOCATION:Temple Theater 3500 S. First St
UID:e.1105.8557
SEQUENCE:3
DTSTAMP:20260424T055903Z
URL:https://livingstonpolk-gzcms.preview.gochambermaster.com/events/details/the-aluminum-show-presented-by-angelina-arts-alliance-8557
END:VEVENT

END:VCALENDAR
