BEGIN:VCALENDAR
VERSION:2.0
PRODID:-//ChamberMaster//Event Calendar 2.0//EN
METHOD:PUBLISH
X-PUBLISHED-TTL:P3D
REFRESH-INTERVAL:P3D
CALSCALE:GREGORIAN
BEGIN:VEVENT
DTSTART:20240113T170000Z
DTEND:20240114T230000Z
X-MICROSOFT-CDO-ALLDAYEVENT:FALSE
SUMMARY:Texas Craft Fair
DESCRIPTION:Texas Craft Fair is a vibrant and dynamic outdoor market located at Hwy 190 west & Park Avenue in Livingston. We are more than just a market\; we are an immersive experience that aims to bring together the local community and visitors from all walks of life. With our bi-weekly markets throughout the year\, there is always something exciting happening at Texas Craft Fair.\n\n\n\nDuring the week\, stop in and grab a bite from one of our food vendors between events.\n\n \n\n\n\nFrom Farmers Markets bursting with fresh produce to Craft Shows showcasing local artisans and their incredible creations\, there is a little something for everyone. But it doesn't stop there. We also host a variety of special events that cater to different interests\, such as car shows\, cook-offs\, and other unique gatherings. These special events add an extra touch of excitement and variety to our already bustling venue.\n\n \n\n\n\nBut our venue doesn't stop at delicious food and fantastic vendors. We pride ourselves on offering a diverse range of events throughout the year. From seasonal festivities like our Haunted Hill   Livingston event in the fall of 2024 to other captivating performances and entertainment\, there is never a dull moment at Texas Craft Fair.\n\n \n\n\n\nSpeaking of the Haunted Hill event\, it promises to be an unforgettable experience. Imagine walking through a haunted woods attraction\, shrouded in mystery and filled with spine-chilling surprises at every turn. With up to 50 vendors participating in a market setup out front\, you'll have the opportunity to discover unique treasures while enjoying the thrills and scares of our haunted woods.\n\n \n\n\n\nSo whether you're looking for a place to shop\, eat\, or get your adrenaline pumping\, Texas Craft Fair is the place to be. Join us for our exciting events throughout the year and create cherished memories with friends and family. We look forward to welcoming you to our remarkable venue nestled in the heart of Livingston.
X-ALT-DESC;FMTTYPE=text/html:<div style="text-align:center">\n<div>Texas Craft Fair is a vibrant and dynamic outdoor market located at Hwy 190 west &amp\; Park Avenue in Livingston. We are more than just a market\; we are an immersive experience that aims to bring together the local community and visitors from all walks of life. With our bi-weekly markets throughout the year\, there is always something exciting happening at Texas Craft Fair.<br />\n<br />\nDuring the week\, stop in and grab a bite from one of our food vendors between events.</div>\n\n<div>&nbsp\;</div>\n</div>\n\n<div style="text-align:center">\n<div>From Farmers Markets bursting with fresh produce to Craft Shows showcasing local artisans and their incredible&nbsp\;creations\, there is a little something for everyone. But it doesn&rsquo\;t stop there. We also host a variety of special events that cater to different interests\, such as car shows\, cook-offs\, and other unique gatherings. These special events add an extra touch of excitement and variety to our already bustling venue.</div>\n\n<div>&nbsp\;</div>\n</div>\n\n<div style="text-align:center">\n<div>But our venue doesn&rsquo\;t stop at delicious food and fantastic vendors. We pride ourselves on offering a diverse range of events throughout the year. From seasonal festivities like our&nbsp\;<a class="x1i10hfl xjbqb8w x6umtig x1b1mbwd xaqea5y xav7gou x9f619 x1ypdohk xt0psk2 xe8uvvx xdj266r x11i5rnm xat24cr x1mh8g0r xexx8yu x4uap5 x18d9i69 xkhd6sd x16tdsg8 x1hl2dhg xggy1nq x1a2a7pz xt0b8zv x1qq9wsj xo1l8bm" href="https://www.facebook.com/profile.php?id=61554653366928&amp\;__cft__[0]=AZUCLbkBOy4KJAiJ_7tTCRd00qF0oqq0YVSUhc03gCJqnXBqsl7ipaVNwd3t2BUbVC5Scm6Dbxc4NY3NGoIZMIsoFcOwQtmwBuNOinwANauReqVcwW9vtw2SvOHPli1K26uY4gPVPUs5O1bIh0uvaUIQ5KPU1KQu7_wOIexhj0j8p3Wbrj0ihgaBp2uEZ5oG_N8&amp\;__tn__=-]K-R" style="box-sizing: border-box\; background-color: transparent\; color: var(--primary)\; text-decoration-line: none\; transition: all 0.3s ease-in-out 0s\;" tabindex="0">Haunted Hill &ndash\; Livingston</a>&nbsp\;event in the fall of 2024 to other captivating performances and entertainment\, there is never a dull moment at Texas Craft Fair.</div>\n\n<div>&nbsp\;</div>\n</div>\n\n<div style="text-align:center">\n<div>Speaking of the Haunted Hill event\, it promises to be an unforgettable experience. Imagine walking through a haunted woods attraction\, shrouded in mystery and filled with spine-chilling surprises at every turn. With up to 50 vendors participating in a market setup out front\, you&rsquo\;ll have the opportunity to discover unique treasures while enjoying the thrills and scares of our haunted woods.</div>\n\n<div>&nbsp\;</div>\n</div>\n\n<div style="text-align:center">\n<div>So whether you&rsquo\;re looking for a place to shop\, eat\, or get your adrenaline pumping\, Texas Craft Fair is the place to be. Join us for our exciting events throughout the year and create cherished memories with friends and family. We look forward to welcoming you to our remarkable venue nestled in the heart of Livingston.</div>\n</div>\n
LOCATION:3300 Us 190 West\, Livingston
UID:e.1105.7721
SEQUENCE:3
DTSTAMP:20260425T120858Z
URL:https://livingstonpolk-gzcms.preview.gochambermaster.com/events/details/texas-craft-fair-7721
END:VEVENT

END:VCALENDAR
