BEGIN:VCALENDAR
VERSION:2.0
PRODID:-//ChamberMaster//Event Calendar 2.0//EN
METHOD:PUBLISH
X-PUBLISHED-TTL:P3D
REFRESH-INTERVAL:P3D
CALSCALE:GREGORIAN
BEGIN:VEVENT
DTSTART:20241206T010000Z
DTEND:20241206T030000Z
X-MICROSOFT-CDO-ALLDAYEVENT:FALSE
SUMMARY:Suzy Bogguss "A Swingin' Little Christmas" presented by Angelina Arts Alliance
DESCRIPTION:Suzy Bogguss' "Swingin' Little Christmas" is a joyous\, festive evening of traditional songs and spontaneity. Suzy's rich and fluid voice will take you through sentimental songs like: "I'll Be Home for Christmas" to her own raucous "Two Step Round The Christmas Tree." It's a fun-filled night of all the Christmas classics sprinkled with some of Suzy's hits through the years!
X-ALT-DESC;FMTTYPE=text/html:Suzy Bogguss&rsquo\; &ldquo\;Swingin&rsquo\; Little Christmas&rdquo\; is a joyous\, festive evening of traditional songs and spontaneity. Suzy&rsquo\;s rich and fluid voice will take you through sentimental songs like: &ldquo\;I&rsquo\;ll Be Home for Christmas&rdquo\; to her own raucous &ldquo\;Two Step Round The Christmas Tree.&rdquo\; It&rsquo\;s a fun-filled night of all the Christmas classics sprinkled with some of Suzy&rsquo\;s hits through the years!
LOCATION:The Pines Theater 113 S. First St
UID:e.1105.8562
SEQUENCE:3
DTSTAMP:20260424T134820Z
URL:https://livingstonpolk-gzcms.preview.gochambermaster.com/events/details/suzy-bogguss-a-swingin-little-christmas-presented-by-angelina-arts-alliance-8562
END:VEVENT

END:VCALENDAR
