BEGIN:VCALENDAR
VERSION:2.0
PRODID:-//ChamberMaster//Event Calendar 2.0//EN
METHOD:PUBLISH
X-PUBLISHED-TTL:P3D
REFRESH-INTERVAL:P3D
CALSCALE:GREGORIAN
BEGIN:VEVENT
DTSTART:20241214T000000Z
DTEND:20241214T020000Z
X-MICROSOFT-CDO-ALLDAYEVENT:FALSE
SUMMARY:Santa at Miss Effie's Cottage
DESCRIPTION:Polk County Garden Club and City of Livingston present Santa at Miss Effie's Cottage on Friday 12/13/2024. Bring your letters to Santa\, tour the historic home and enjoy refreshments.
X-ALT-DESC;FMTTYPE=text/html:Polk County Garden Club and City of Livingston present Santa at Miss Effie&#39\;s Cottage on Friday 12/13/2024. Bring your letters to Santa\, tour the historic home and enjoy refreshments.
LOCATION:201 West Mill Street\, Livingston
UID:e.1105.8821
SEQUENCE:3
DTSTAMP:20260424T114354Z
URL:https://livingstonpolk-gzcms.preview.gochambermaster.com/events/details/santa-at-miss-effie-s-cottage-8821
END:VEVENT

END:VCALENDAR
