BEGIN:VCALENDAR
VERSION:2.0
PRODID:-//ChamberMaster//Event Calendar 2.0//EN
METHOD:PUBLISH
X-PUBLISHED-TTL:P3D
REFRESH-INTERVAL:P3D
CALSCALE:GREGORIAN
BEGIN:VEVENT
DTSTART:20230701T000000Z
DTEND:20230701T030000Z
X-MICROSOFT-CDO-ALLDAYEVENT:FALSE
SUMMARY:Rodeo Kickoff Dance
DESCRIPTION:FREE family fun\, music\, dance\, concession stand\, vendors\, and hometown goodness.
X-ALT-DESC;FMTTYPE=text/html:FREE family fun\, music\, dance\, concession stand\, vendors\, and hometown goodness.
LOCATION:Barney Wiggins Arena\, Livingston\, Texas
UID:e.1105.7260
SEQUENCE:3
DTSTAMP:20260426T000602Z
URL:https://livingstonpolk-gzcms.preview.gochambermaster.com/events/details/rodeo-kickoff-dance-7260
END:VEVENT

END:VCALENDAR
