BEGIN:VCALENDAR
VERSION:2.0
PRODID:-//ChamberMaster//Event Calendar 2.0//EN
METHOD:PUBLISH
X-PUBLISHED-TTL:P3D
REFRESH-INTERVAL:P3D
CALSCALE:GREGORIAN
BEGIN:VEVENT
DTSTART:20250909T150000Z
DTEND:20250909T160000Z
X-MICROSOFT-CDO-ALLDAYEVENT:FALSE
SUMMARY:Ribbon Cutting - Polk County Garden Club
DESCRIPTION:Ribbon Cutting for the Polk County Garden Club at Miss Effies' Cottage.\n\nCome and help the Chamber to welcome them!!!!
X-ALT-DESC;FMTTYPE=text/html:Ribbon Cutting for the Polk County Garden Club at Miss Effies&#39\; Cottage.<br />\nCome and help the Chamber to welcome them!!!!<br />\n&nbsp\;
LOCATION:Miss Effies' Cottage 204 W. Mill Street Livingston\, Texas 77351
UID:e.1105.9270
SEQUENCE:3
DTSTAMP:20260423T181025Z
URL:https://livingstonpolk-gzcms.preview.gochambermaster.com/events/details/ribbon-cutting-polk-county-garden-club-9270
END:VEVENT

END:VCALENDAR
