BEGIN:VCALENDAR
VERSION:2.0
PRODID:-//ChamberMaster//Event Calendar 2.0//EN
METHOD:PUBLISH
X-PUBLISHED-TTL:P3D
REFRESH-INTERVAL:P3D
CALSCALE:GREGORIAN
BEGIN:VEVENT
DTSTART:20250123T193000Z
DTEND:20250123T203000Z
X-MICROSOFT-CDO-ALLDAYEVENT:FALSE
SUMMARY:Ribbon Cutting for Primary Doc
DESCRIPTION:Ribbon Cutting for Primary Doc
X-ALT-DESC;FMTTYPE=text/html:Ribbon Cutting for Primary Doc
LOCATION:1615 W. Church Livingston Texas 77351
UID:e.1105.8975
SEQUENCE:3
DTSTAMP:20260424T130503Z
URL:https://livingstonpolk-gzcms.preview.gochambermaster.com/events/details/ribbon-cutting-for-primary-doc-8975
END:VEVENT

END:VCALENDAR
