BEGIN:VCALENDAR
VERSION:2.0
PRODID:-//ChamberMaster//Event Calendar 2.0//EN
METHOD:PUBLISH
X-PUBLISHED-TTL:P3D
REFRESH-INTERVAL:P3D
CALSCALE:GREGORIAN
BEGIN:VEVENT
DTSTART:20230911T223000Z
DTEND:20230912T003000Z
X-MICROSOFT-CDO-ALLDAYEVENT:FALSE
SUMMARY:Republican Club September Meeting
DESCRIPTION:Republican Club September Meeting  Speaker Chris Russo\,  Texans for Strong Borders\, President: National Immigration Enforcement.  Meal will be available for purchase.  (info to follow)
X-ALT-DESC;FMTTYPE=text/html:Republican Club September Meeting&nbsp\; Speaker Chris Russo\,&nbsp\; Texans for Strong Borders\, President: National Immigration Enforcement.&nbsp\; Meal will be available for purchase.&nbsp\; (info to follow)
LOCATION:VFW Hall\, 4951 US-190 W\, Livingston
UID:e.1105.7290
SEQUENCE:3
DTSTAMP:20260425T185729Z
URL:https://livingstonpolk-gzcms.preview.gochambermaster.com/events/details/republican-club-september-meeting-7290
END:VEVENT

END:VCALENDAR
