BEGIN:VCALENDAR
VERSION:2.0
PRODID:-//ChamberMaster//Event Calendar 2.0//EN
METHOD:PUBLISH
X-PUBLISHED-TTL:P3D
REFRESH-INTERVAL:P3D
CALSCALE:GREGORIAN
BEGIN:VEVENT
DTSTART:20241022T210000Z
DTEND:20241023T000000Z
X-MICROSOFT-CDO-ALLDAYEVENT:FALSE
SUMMARY:Red Ribbon Festival
DESCRIPTION:Sign the Pledge to be Drug Free ? Informational booths ? Local Food Vendors ? Trunk or Treat event Games\, Food\, Family Free Fun
X-ALT-DESC;FMTTYPE=text/html:Sign the Pledge to be Drug Free ? Informational booths ? Local Food Vendors ? Trunk or Treat event Games\, Food\, Family Free Fun
LOCATION:Alabama-Coushatta RESERVATION BALLPARK 129 Daycare Rd\, Livingston\, TX
UID:e.1105.8817
SEQUENCE:3
DTSTAMP:20260424T193742Z
URL:https://livingstonpolk-gzcms.preview.gochambermaster.com/events/details/red-ribbon-festival-8817
END:VEVENT

END:VCALENDAR
