BEGIN:VCALENDAR
VERSION:2.0
PRODID:-//ChamberMaster//Event Calendar 2.0//EN
METHOD:PUBLISH
X-PUBLISHED-TTL:P3D
REFRESH-INTERVAL:P3D
CALSCALE:GREGORIAN
BEGIN:VEVENT
DTSTART:20230809T163000Z
DTEND:20230809T180000Z
X-MICROSOFT-CDO-ALLDAYEVENT:FALSE
SUMMARY:PWL Texas Master Naturalist Chapter Meeting
DESCRIPTION:The Piney Wood Lakes Chapter of Texas Master Naturalist monthly Chapter Meeting. This month speaker will be Elizabeth Smith\, Horticulture Instructor from Lee College presenting "Camping in the State Parks". Bring your lunch\, visit and learn!
X-ALT-DESC;FMTTYPE=text/html:The Piney Wood Lakes Chapter of Texas Master Naturalist monthly Chapter Meeting. This month speaker will be Elizabeth Smith\, Horticulture Instructor from Lee College presenting &quot\;Camping in the State Parks&quot\;. Bring your lunch\, visit and learn!
LOCATION:Polk County Chamber of Commerce
UID:e.1105.7315
SEQUENCE:3
DTSTAMP:20260425T201539Z
URL:https://livingstonpolk-gzcms.preview.gochambermaster.com/events/details/pwl-texas-master-naturalist-chapter-meeting-7315
END:VEVENT

END:VCALENDAR
