BEGIN:VCALENDAR
VERSION:2.0
PRODID:-//ChamberMaster//Event Calendar 2.0//EN
METHOD:PUBLISH
X-PUBLISHED-TTL:P3D
REFRESH-INTERVAL:P3D
CALSCALE:GREGORIAN
BEGIN:VEVENT
DTSTART:20230913T170000Z
DTEND:20230913T180000Z
X-MICROSOFT-CDO-ALLDAYEVENT:FALSE
SUMMARY:PWL Texas Master Naturalist
DESCRIPTION:Piney Wood Lakes - Texas Master Naturalist Chapter Meeting. Speaker will be Dr. Amber Ulseth\, Ecology Professor from SHSU presenting Rivers and Stream Ecology. Bring your lunch and join us for this educational opportunity!
X-ALT-DESC;FMTTYPE=text/html:Piney Wood Lakes - Texas Master Naturalist Chapter Meeting. Speaker will be Dr. Amber Ulseth\, Ecology Professor from SHSU presenting Rivers and Stream Ecology. Bring your lunch and join us for this educational opportunity!
LOCATION:Polk County Chamber of Commerce
UID:e.1105.7316
SEQUENCE:3
DTSTAMP:20260425T225227Z
URL:https://livingstonpolk-gzcms.preview.gochambermaster.com/events/details/pwl-texas-master-naturalist-7316
END:VEVENT

END:VCALENDAR
