BEGIN:VCALENDAR
VERSION:2.0
PRODID:-//ChamberMaster//Event Calendar 2.0//EN
METHOD:PUBLISH
X-PUBLISHED-TTL:P3D
REFRESH-INTERVAL:P3D
CALSCALE:GREGORIAN
BEGIN:VEVENT
DTSTART:20250902T213000Z
DTEND:20250902T223000Z
X-MICROSOFT-CDO-ALLDAYEVENT:FALSE
SUMMARY:Power Hour at The Blue Duck Kitchen and Bar
DESCRIPTION:Power Hour at The Blue Duck Kitchen & Bar\n\nCome and network with the Polk County Chamber of Commerce and local business owners!
X-ALT-DESC;FMTTYPE=text/html:Power Hour at The Blue Duck Kitchen &amp\; Bar<br />\nCome and network with the Polk County Chamber of Commerce and local business owners!&nbsp\;
LOCATION:The Blue Duck Kitchen & Bar 410 N. Washington Ave. Livingston\, Texas 77351
UID:e.1105.9269
SEQUENCE:3
DTSTAMP:20260423T140835Z
URL:https://livingstonpolk-gzcms.preview.gochambermaster.com/events/details/power-hour-at-the-blue-duck-kitchen-and-bar-9269
END:VEVENT

END:VCALENDAR
