BEGIN:VCALENDAR
VERSION:2.0
PRODID:-//ChamberMaster//Event Calendar 2.0//EN
METHOD:PUBLISH
X-PUBLISHED-TTL:P3D
REFRESH-INTERVAL:P3D
CALSCALE:GREGORIAN
BEGIN:VEVENT
DTSTART:20231209T010000Z
DTEND:20231209T030000Z
X-MICROSOFT-CDO-ALLDAYEVENT:FALSE
SUMMARY:Pines Classic Film Series: The Preacher's Wife
DESCRIPTION:The Preacher's Wife (1996) An angel comes to Earth to help a preacher save his church and his family. The heavenly emissary is supposed to help the good reverend over his midlife crisis\, but he is distracted by the preacher's lovely young wife. Rated PG
X-ALT-DESC;FMTTYPE=text/html:The Preacher&#39\;s Wife (1996) An angel comes to Earth to help a preacher save his church and his family. The heavenly emissary is supposed to help the good reverend over his midlife crisis\, but he is distracted by the preacher&#39\;s lovely young wife. Rated PG
LOCATION:The Pines Theater
UID:e.1105.6760
SEQUENCE:3
DTSTAMP:20260425T113657Z
URL:https://livingstonpolk-gzcms.preview.gochambermaster.com/events/details/pines-classic-film-series-the-preacher-s-wife-6760
END:VEVENT

END:VCALENDAR
