BEGIN:VCALENDAR
VERSION:2.0
PRODID:-//ChamberMaster//Event Calendar 2.0//EN
METHOD:PUBLISH
X-PUBLISHED-TTL:P3D
REFRESH-INTERVAL:P3D
CALSCALE:GREGORIAN
BEGIN:VEVENT
DTSTART:20230416T003000Z
DTEND:20230416T020000Z
X-MICROSOFT-CDO-ALLDAYEVENT:FALSE
SUMMARY:Neil Berg's 50 Years of Rock n' Roll presented by Angelina Arts Alliance
DESCRIPTION:From the birth of rock 'n roll in the 1940's to the glory years of the 50's\, 60's\, and 70's\, all the way through 80's MTV\, composer/lyricist Neil Berg pays tribute to the fascinating stories and groundbreaking music of everyone's favorite genre. With a cast of Broadway headliners and rock 'n roll icons\, this star-studded show pays tribute to five decades of legends\, from Chuck Berry and Elvis Presley to The Who\, Aerosmith\, Springsteen\, Journey\, and more.
X-ALT-DESC;FMTTYPE=text/html:<div>\n<p>From the birth of rock &lsquo\;n roll in the 1940&rsquo\;s to the glory years of the 50&rsquo\;s\, 60&rsquo\;s\, and 70&rsquo\;s\, all the way through 80&rsquo\;s MTV\, composer/lyricist Neil Berg pays tribute to the fascinating stories and groundbreaking music of everyone&rsquo\;s favorite genre. With a cast of Broadway headliners and rock &lsquo\;n roll icons\, this star-studded show pays tribute to five decades of legends\, from Chuck Berry and Elvis Presley to The Who\, Aerosmith\, Springsteen\, Journey\, and more.</p>\n\n<p>&nbsp\;</p>\n</div>\n
LOCATION:The Temple Theater
UID:e.1105.6671
SEQUENCE:3
DTSTAMP:20260426T013645Z
URL:https://livingstonpolk-gzcms.preview.gochambermaster.com/events/details/neil-berg-s-50-years-of-rock-n-roll-presented-by-angelina-arts-alliance-6671
END:VEVENT

END:VCALENDAR
