BEGIN:VCALENDAR
VERSION:2.0
PRODID:-//ChamberMaster//Event Calendar 2.0//EN
METHOD:PUBLISH
X-PUBLISHED-TTL:P3D
REFRESH-INTERVAL:P3D
CALSCALE:GREGORIAN
BEGIN:VEVENT
DTSTART:20240525T190000Z
DTEND:20240525T210000Z
X-MICROSOFT-CDO-ALLDAYEVENT:FALSE
SUMMARY:Memorial Day Weekend Music Events
DESCRIPTION:Live music with Sarah Green 2-4pm Tickets $10/ea 50 pre sale tickets available open to the public\, free with your reservation.
X-ALT-DESC;FMTTYPE=text/html:Live music with Sarah Green 2-4pm Tickets $10/ea 50 pre sale tickets available open to the public\, free with your reservation.
LOCATION:Two Creeks Crossing Resort 1581 Triple Creek Loop Livingston\, Texas 77381
UID:e.1105.8051
SEQUENCE:3
DTSTAMP:20260425T005029Z
URL:https://livingstonpolk-gzcms.preview.gochambermaster.com/events/details/memorial-day-weekend-music-events-8051
END:VEVENT

END:VCALENDAR
