BEGIN:VCALENDAR
VERSION:2.0
PRODID:-//ChamberMaster//Event Calendar 2.0//EN
METHOD:PUBLISH
X-PUBLISHED-TTL:P3D
REFRESH-INTERVAL:P3D
CALSCALE:GREGORIAN
BEGIN:VEVENT
DTSTART:20230611T190000Z
DTEND:20230611T210000Z
X-MICROSOFT-CDO-ALLDAYEVENT:FALSE
SUMMARY:Madagascar - the Musical presented by Angelina Arts Alliance
DESCRIPTION:Based on the smash hit DreamWorks' animated motion picture\, Madagascar   The Musical follows all your favorite cracka-lackin' friends as they escape from their home in New York's Central Park Zoo and find themselves on an unexpected journey.
X-ALT-DESC;FMTTYPE=text/html:Based on the smash hit DreamWorks&rsquo\; animated motion picture\, Madagascar &ndash\; The Musical follows all your favorite cracka-lackin&rsquo\; friends as they escape from their home in New York&rsquo\;s Central Park Zoo and find themselves on an unexpected journey.
LOCATION:Temple Theater
UID:e.1105.6653
SEQUENCE:3
DTSTAMP:20260426T001442Z
URL:https://livingstonpolk-gzcms.preview.gochambermaster.com/events/details/madagascar-the-musical-presented-by-angelina-arts-alliance-6653
END:VEVENT

END:VCALENDAR
