BEGIN:VCALENDAR
VERSION:2.0
PRODID:-//ChamberMaster//Event Calendar 2.0//EN
METHOD:PUBLISH
X-PUBLISHED-TTL:P3D
REFRESH-INTERVAL:P3D
CALSCALE:GREGORIAN
BEGIN:VEVENT
DTSTART:20230421T140000Z
DTEND:20230423T000000Z
X-MICROSOFT-CDO-ALLDAYEVENT:FALSE
SUMMARY:Livingston Quilt Show
DESCRIPTION:The Livingston Piecemakers Quilt Guild is hosting a two day Quilt Show at the Polk County Commerce Center. We will have a boutique\, vendors\, raffle quilt and two silent auctions.
X-ALT-DESC;FMTTYPE=text/html:The Livingston Piecemakers Quilt Guild is hosting a two day Quilt Show at the Polk County Commerce Center. We will have a boutique\, vendors\, raffle quilt and two silent auctions.
LOCATION:Polk County Commerce Center: 1017 US-59 Loop N\, Livingston\, TX 77351
UID:e.1105.6730
SEQUENCE:3
DTSTAMP:20260426T041424Z
URL:https://livingstonpolk-gzcms.preview.gochambermaster.com/events/details/livingston-quilt-show-6730
END:VEVENT

END:VCALENDAR
