BEGIN:VCALENDAR
VERSION:2.0
PRODID:-//ChamberMaster//Event Calendar 2.0//EN
METHOD:PUBLISH
X-PUBLISHED-TTL:P3D
REFRESH-INTERVAL:P3D
CALSCALE:GREGORIAN
BEGIN:VEVENT
DTSTART:20231116T160000Z
DTEND:20231116T200000Z
X-MICROSOFT-CDO-ALLDAYEVENT:FALSE
SUMMARY:Job Fair: Hiring Red White & You!
DESCRIPTION:Join the Texas Workforce Commission\, Workforce Solutions Deep East Texas\, and Texas Medical Center for the 12th Annual Hiring Red\, White\, & You! Statewide Hiring Fair to connect transitioning service members\, military spouses\, National Guard\, Reserve\, veterans and their family members with employers. No cost to job seekers!
X-ALT-DESC;FMTTYPE=text/html:Join the Texas Workforce Commission\, Workforce Solutions Deep East Texas\, and Texas Medical Center for the 12th Annual Hiring Red\, White\, &amp\; You! Statewide Hiring Fair to connect transitioning service members\, military spouses\, National Guard\, Reserve\, veterans and their family members with employers. No cost to job seekers!
LOCATION:Polk County Commerce Center 1017 US-59 Loop N\, Livingston
UID:e.1105.7337
SEQUENCE:3
DTSTAMP:20260425T105141Z
URL:https://livingstonpolk-gzcms.preview.gochambermaster.com/events/details/job-fair-hiring-red-white-you-7337
END:VEVENT

END:VCALENDAR
