BEGIN:VCALENDAR
VERSION:2.0
PRODID:-//ChamberMaster//Event Calendar 2.0//EN
METHOD:PUBLISH
X-PUBLISHED-TTL:P3D
REFRESH-INTERVAL:P3D
CALSCALE:GREGORIAN
BEGIN:VEVENT
DTSTART:20250419T000000Z
DTEND:20250419T020000Z
X-MICROSOFT-CDO-ALLDAYEVENT:FALSE
SUMMARY:Jason Crabb presented by Angelina Arts Alliance
DESCRIPTION:One of Gospel and Christian music's most iconic voices\, Kentucky-born Jason Crabb has been honored with two Grammy Awards  and 22 Dove Awards along with a host of industry honors and recognitions. His electrifying stage presence\, powerhouse vocals and magnetic personality have endeared him to millions across the world.
X-ALT-DESC;FMTTYPE=text/html:One of Gospel and Christian music&rsquo\;s most iconic voices\, Kentucky-born Jason Crabb has been honored with two Grammy Awards&reg\; and 22 Dove Awards along with a host of industry honors and recognitions. His electrifying stage presence\, powerhouse vocals and magnetic personality have endeared him to millions across the world.
LOCATION:The Pines Theater 113 S. First St
UID:e.1105.8566
SEQUENCE:3
DTSTAMP:20260424T014648Z
URL:https://livingstonpolk-gzcms.preview.gochambermaster.com/events/details/jason-crabb-presented-by-angelina-arts-alliance-8566
END:VEVENT

END:VCALENDAR
