BEGIN:VCALENDAR
VERSION:2.0
PRODID:-//ChamberMaster//Event Calendar 2.0//EN
METHOD:PUBLISH
X-PUBLISHED-TTL:P3D
REFRESH-INTERVAL:P3D
CALSCALE:GREGORIAN
BEGIN:VEVENT
DTSTART;VALUE=DATE:20251003
DTEND;VALUE=DATE:20251004
TRANSP:TRANSPARENT
X-MICROSOFT-CDO-ALLDAYEVENT:TRUE
SUMMARY:Golf Tournament 2025 Swing for a Cause benefiting Childrenz Haven
DESCRIPTION:Tee Times at 8 AM & 1 PM\n\n$340 entry\n\n4 Person Scramble
X-ALT-DESC;FMTTYPE=text/html:Tee Times at 8 AM &amp\; 1 PM<br />\n$340 entry<br />\n4 Person Scramble
LOCATION:Neches Pines Golf Course Diboll\, Texas
UID:e.1105.9299
SEQUENCE:3
DTSTAMP:20260423T083207Z
URL:https://livingstonpolk-gzcms.preview.gochambermaster.com/events/details/golf-tournament-2025-swing-for-a-cause-benefiting-childrenz-haven-9299
END:VEVENT

END:VCALENDAR
