BEGIN:VCALENDAR
VERSION:2.0
PRODID:-//ChamberMaster//Event Calendar 2.0//EN
METHOD:PUBLISH
X-PUBLISHED-TTL:P3D
REFRESH-INTERVAL:P3D
CALSCALE:GREGORIAN
BEGIN:VEVENT
DTSTART:20231008T190000Z
DTEND:20231008T203000Z
X-MICROSOFT-CDO-ALLDAYEVENT:FALSE
SUMMARY:Discovery Series: iLuminate
DESCRIPTION:Get ready for a multi-sensory experience\, unlike anything you've ever seen! This show will take you on an exhilarating ride of music\, dance\, illusion\, technology\, and comedy. That's sure to leave you breathless and wanting more. iLuminate has been featured on shows such as\, Dancing with the Stars\, The X-Factor\, and The Ellen Degeneres Show.
X-ALT-DESC;FMTTYPE=text/html:Get ready for a multi-sensory experience\, unlike anything you&rsquo\;ve ever seen! This show will take you on an exhilarating ride of music\, dance\, illusion\, technology\, and comedy. That&rsquo\;s sure to leave you breathless and wanting more. iLuminate has been featured on shows such as\, Dancing with the Stars\, The X-Factor\, and The Ellen Degeneres Show.
LOCATION:Temple Theater
UID:e.1105.7309
SEQUENCE:3
DTSTAMP:20260425T174449Z
URL:https://livingstonpolk-gzcms.preview.gochambermaster.com/events/details/discovery-series-iluminate-7309
END:VEVENT

END:VCALENDAR
