BEGIN:VCALENDAR
VERSION:2.0
PRODID:-//ChamberMaster//Event Calendar 2.0//EN
METHOD:PUBLISH
X-PUBLISHED-TTL:P3D
REFRESH-INTERVAL:P3D
CALSCALE:GREGORIAN
BEGIN:VEVENT
DTSTART:20251113T233000Z
DTEND:20251114T010000Z
X-MICROSOFT-CDO-ALLDAYEVENT:FALSE
SUMMARY:Business After Hours / Roy O Martin
DESCRIPTION:Business After Hours - visiting & networking\, \n\nlearning about Roy O Martin marketing and building supplies.\n\nPlease remember to bring a business card as there will be a drawing for $50. from the Polk County Chamber of Commerce.
X-ALT-DESC;FMTTYPE=text/html:Business After Hours - visiting &amp\; networking\,&nbsp\;<br />\nlearning about Roy O Martin marketing and building supplies.<br />\nPlease remember to bring a business card as there will be a drawing for $50. from the Polk County Chamber of Commerce.&nbsp\;
LOCATION:Roy O Martin 1923 US 287 Corrigan\, Texas
UID:e.1105.9217
SEQUENCE:3
DTSTAMP:20260423T064806Z
URL:https://livingstonpolk-gzcms.preview.gochambermaster.com/events/details/business-after-hours-roy-o-martin-9217
END:VEVENT

END:VCALENDAR
