BEGIN:VCALENDAR
VERSION:2.0
PRODID:-//ChamberMaster//Event Calendar 2.0//EN
METHOD:PUBLISH
X-PUBLISHED-TTL:P3D
REFRESH-INTERVAL:P3D
CALSCALE:GREGORIAN
BEGIN:VEVENT
DTSTART:20250318T220000Z
DTEND:20250319T010000Z
X-MICROSOFT-CDO-ALLDAYEVENT:FALSE
SUMMARY:Business After Hours
DESCRIPTION:Business After Hours at Texas State University System - Polk County.\n\nThis is a networking event that gives the opportunity to meet others in our community\, share ideas\, make new contacts and learn about the host's business.
X-ALT-DESC;FMTTYPE=text/html:&nbsp\;Business After Hours at Texas State University System - Polk County.<br />\nThis is a networking event that gives the opportunity to meet others in our community\, share ideas\, make new contacts and learn about the host&#39\;s business.&nbsp\;
LOCATION:1015 US Hwy 59 North Loop Livingston\, Texas 77351
UID:e.1105.9196
SEQUENCE:3
DTSTAMP:20260424T045559Z
URL:https://livingstonpolk-gzcms.preview.gochambermaster.com/events/details/business-after-hours-9196
END:VEVENT

END:VCALENDAR
