BEGIN:VCALENDAR
VERSION:2.0
PRODID:-//ChamberMaster//Event Calendar 2.0//EN
METHOD:PUBLISH
X-PUBLISHED-TTL:P3D
REFRESH-INTERVAL:P3D
CALSCALE:GREGORIAN
BEGIN:VEVENT
DTSTART:20231122T000000Z
DTEND:20231122T020000Z
X-MICROSOFT-CDO-ALLDAYEVENT:FALSE
SUMMARY:Bradford Harvest Bingo
DESCRIPTION:Join us in a fun BINGO game with prizes to include Thanksgiving Dinners\, Pies\, and More!!!
X-ALT-DESC;FMTTYPE=text/html:Join us in a fun BINGO game with prizes to include Thanksgiving Dinners\, Pies\, and More!!!
LOCATION:The Bradford at Brookside
UID:e.1105.7371
SEQUENCE:3
DTSTAMP:20260425T162616Z
URL:https://livingstonpolk-gzcms.preview.gochambermaster.com/events/details/bradford-harvest-bingo-7371
END:VEVENT

END:VCALENDAR
