BEGIN:VCALENDAR
VERSION:2.0
PRODID:-//ChamberMaster//Event Calendar 2.0//EN
METHOD:PUBLISH
X-PUBLISHED-TTL:P3D
REFRESH-INTERVAL:P3D
CALSCALE:GREGORIAN
BEGIN:VEVENT
DTSTART:20250324T170000Z
DTEND:20250325T020000Z
X-MICROSOFT-CDO-ALLDAYEVENT:FALSE
SUMMARY:Bowling Tournament - Battle of the Businesses
DESCRIPTION:Chamber Bowling Tournament \n\n"Battle of the Businesses"\n\nPlease pre-register. 4 man team \n\nAfternoon flight will begin at 12:00 tournament begins at 1:00 pm - $150.00\n\nEvening flight begins at 5:00 pm Tournament begins at 6:00 pm. - $200.00\n\nLunch & dinner provided.
X-ALT-DESC;FMTTYPE=text/html:Chamber Bowling Tournament&nbsp\;<br />\n&quot\;Battle of the Businesses&quot\;<br />\nPlease pre-register. 4 man team&nbsp\;<br />\nAfternoon flight will begin at 12:00 tournament begins at 1:00 pm - $150.00<br />\nEvening flight begins at 5:00 pm Tournament begins at 6:00 pm. - $200.00<br />\nLunch &amp\; dinner provided.
LOCATION:Triple J Lanes 6900 US Hwy 190 West Livingston
UID:e.1105.8997
SEQUENCE:3
DTSTAMP:20260424T032338Z
URL:https://livingstonpolk-gzcms.preview.gochambermaster.com/events/details/bowling-tournament-battle-of-the-businesses-8997
END:VEVENT

END:VCALENDAR
