BEGIN:VCALENDAR
VERSION:2.0
PRODID:-//ChamberMaster//Event Calendar 2.0//EN
METHOD:PUBLISH
X-PUBLISHED-TTL:P3D
REFRESH-INTERVAL:P3D
CALSCALE:GREGORIAN
BEGIN:VEVENT
DTSTART:20250516T150000Z
DTEND:20250516T170000Z
X-MICROSOFT-CDO-ALLDAYEVENT:FALSE
SUMMARY:Alcohol & Drug Awareness Council
DESCRIPTION:Hosted by Prevention Resource Center\, Region 5\, this free community event is designed for parents\, school staff\, youth service providers and anyone invested in youth well being and public health. Expert insights from guest speaker Kim Arrington\, LPC a passionate educator\, advocate and CO-Founder of Connected Path Recovery. With over 30 years in the field of addiction and mental health\, she brings deep clinical experience and statewide leadership in substance use disorder treatment and education. Registration appreciated.
X-ALT-DESC;FMTTYPE=text/html:Hosted by Prevention Resource Center\, Region 5\, this free community event is designed for parents\, school staff\, youth service providers and anyone invested in youth well being and public health. Expert insights from guest speaker Kim Arrington\, LPC a passionate educator\, advocate and CO-Founder of Connected Path Recovery. With over 30 years in the field of addiction and mental health\, she brings deep clinical experience and statewide leadership in substance use disorder treatment and education. Registration appreciated.&nbsp\;
LOCATION:Livingston Polk County Chamber of Commerce 1001 Hwy 59 Loop North Livingston\, Texas 77351 936-327-4929
UID:e.1105.9222
SEQUENCE:3
DTSTAMP:20260423T223805Z
URL:https://livingstonpolk-gzcms.preview.gochambermaster.com/events/details/alcohol-drug-awareness-council-9222
END:VEVENT

END:VCALENDAR
