BEGIN:VCALENDAR
VERSION:2.0
PRODID:-//ChamberMaster//Event Calendar 2.0//EN
METHOD:PUBLISH
X-PUBLISHED-TTL:P3D
REFRESH-INTERVAL:P3D
CALSCALE:GREGORIAN
BEGIN:VEVENT
DTSTART:20260704T140000Z
DTEND:20260704T190000Z
X-MICROSOFT-CDO-ALLDAYEVENT:FALSE
SUMMARY:4th of July/ America's 250th Anniversary Celebration
DESCRIPTION:Come and join us for the  4th of July &  America's 250th Anniversary Celebration! Decorate your ATVs/ golfcarts for our patriotic parade at 9 am. The celebration program will begin at 10 am.\n\nThere will be an ATV/ golf cart parade\, music\, activities for family and children.\n\nThere will be a jeep\, car & motorcycle show\, face painting\, bounce houses\, inflatable slides\, games and  a dunking booth.\n\nHot dogs will be provided by F.A.I.T.H. Military. Cookies and waters will be provided.\n\nBring your lawn chairs.\n\nTHIS IS A FREE EVENT\, ALL DONATIONS GO TO F.A.I.T.H. MILITARY.
X-ALT-DESC;FMTTYPE=text/html:Come and join us for the&nbsp\; 4th of July &amp\;&nbsp\; America&#39\;s 250th Anniversary Celebration! Decorate your ATVs/ golfcarts for our patriotic parade at 9 am. The celebration program will begin at 10 am.<br />\nThere will be an ATV/ golf cart parade\, music\, activities for family and children.<br />\nThere will be a jeep\, car &amp\; motorcycle show\, face painting\, bounce houses\, inflatable slides\, games and&nbsp\; a dunking booth.<br />\nHot dogs will be provided by F.A.I.T.H. Military. Cookies and waters will be provided.<br />\nBring your lawn chairs.<br />\nTHIS IS A FREE EVENT\, ALL DONATIONS GO TO F.A.I.T.H. MILITARY.&nbsp\;
LOCATION:Pedigo Park 925 US Hwy 59 Loop North Livingston\, Texas 77351
UID:e.1105.9707
SEQUENCE:3
DTSTAMP:20260422T132946Z
URL:https://livingstonpolk-gzcms.preview.gochambermaster.com/events/details/4th-of-july-america-s-250th-anniversary-celebration-9707
END:VEVENT

END:VCALENDAR
